BEGIN:VCALENDAR
VERSION:2.0
PRODID:-//EHM Senior Solutions - ECPv6.15.17.1//NONSGML v1.0//EN
CALSCALE:GREGORIAN
METHOD:PUBLISH
X-WR-CALNAME:EHM Senior Solutions
X-ORIGINAL-URL:https://ehmss.org
X-WR-CALDESC:Events for EHM Senior Solutions
REFRESH-INTERVAL;VALUE=DURATION:PT1H
X-Robots-Tag:noindex
X-PUBLISHED-TTL:PT1H
BEGIN:VTIMEZONE
TZID:America/Detroit
BEGIN:DAYLIGHT
TZOFFSETFROM:-0500
TZOFFSETTO:-0400
TZNAME:EDT
DTSTART:20210314T070000
END:DAYLIGHT
BEGIN:STANDARD
TZOFFSETFROM:-0400
TZOFFSETTO:-0500
TZNAME:EST
DTSTART:20211107T060000
END:STANDARD
BEGIN:DAYLIGHT
TZOFFSETFROM:-0500
TZOFFSETTO:-0400
TZNAME:EDT
DTSTART:20220313T070000
END:DAYLIGHT
BEGIN:STANDARD
TZOFFSETFROM:-0400
TZOFFSETTO:-0500
TZNAME:EST
DTSTART:20221106T060000
END:STANDARD
BEGIN:DAYLIGHT
TZOFFSETFROM:-0500
TZOFFSETTO:-0400
TZNAME:EDT
DTSTART:20230312T070000
END:DAYLIGHT
BEGIN:STANDARD
TZOFFSETFROM:-0400
TZOFFSETTO:-0500
TZNAME:EST
DTSTART:20231105T060000
END:STANDARD
BEGIN:DAYLIGHT
TZOFFSETFROM:-0500
TZOFFSETTO:-0400
TZNAME:EDT
DTSTART:20240310T070000
END:DAYLIGHT
BEGIN:STANDARD
TZOFFSETFROM:-0400
TZOFFSETTO:-0500
TZNAME:EST
DTSTART:20241103T060000
END:STANDARD
BEGIN:DAYLIGHT
TZOFFSETFROM:-0500
TZOFFSETTO:-0400
TZNAME:EDT
DTSTART:20250309T070000
END:DAYLIGHT
BEGIN:STANDARD
TZOFFSETFROM:-0400
TZOFFSETTO:-0500
TZNAME:EST
DTSTART:20251102T060000
END:STANDARD
BEGIN:DAYLIGHT
TZOFFSETFROM:-0500
TZOFFSETTO:-0400
TZNAME:EDT
DTSTART:20260308T070000
END:DAYLIGHT
BEGIN:STANDARD
TZOFFSETFROM:-0400
TZOFFSETTO:-0500
TZNAME:EST
DTSTART:20261101T060000
END:STANDARD
END:VTIMEZONE
BEGIN:VEVENT
DTSTART;TZID=America/Detroit:20251014T130000
DTEND;TZID=America/Detroit:20251014T143000
DTSTAMP:20260422T023712
CREATED:20220830T201512Z
LAST-MODIFIED:20250905T152352Z
UID:2702-1760446800-1760452200@ehmss.org
SUMMARY:Brecon Village Workshop and Open House
DESCRIPTION:Join us for our workshop from 1:30 – 2:30 and tours of Brecon Village to follow from 2:30 to 3:30.\nWorkshop: Helpful Strategies to Navigate the Challenges of Communication Through the Caregiving Journey\nSpeaker: Jim Mangi\, Founder of Dementia Friendly Services\nThis session offers practical guidance on communicating for a loved one living with dementia and advocating for their needs. You’ll gain helpful strategies to navigate the challenges of dementia communication and feel more confident supporting your loved one throughout their journey. \nTours: Visit our inviting home and enjoy refreshments provided by our chef!
URL:https://ehmss.org/event/brecon-village/
LOCATION:Brecon Village\, 200 Brecon Drive\, Saline\, MI\, 48176\, United States
CATEGORIES:Brecon Village Community Event
ATTACH;FMTTYPE=image/jpeg:https://ehmss.org/wp-content/uploads/2022/08/courtyard.jpg
ORGANIZER;CN="EHM Senior Solutions":MAILTO:marketing@ehmss.org
END:VEVENT
BEGIN:VEVENT
DTSTART;TZID=America/Detroit:20251011T093000
DTEND;TZID=America/Detroit:20251011T133000
DTSTAMP:20260422T023712
CREATED:20240816T143208Z
LAST-MODIFIED:20250905T135355Z
UID:4551-1760175000-1760189400@ehmss.org
SUMMARY:Senior Living Week 2025 EXPO
DESCRIPTION:Visit us at the Senior Living Week 2025 EXPO!\nMany Voices and Views\nWashtenaw Community College\, Morris Lawrence Building \nVisit Brecon Village and EHM Senior Solutions’ table at the Senior Living Week Expo Saturday\, October 11! We will there with many other vendors and service providers offering everything from housing options to financial planning\, mobility aids\, caregiving resources\, and beyond.  There will be free health screenings helping older adults stay proactive about their health and wellness. www.uofmhealth.org/HBS \nSenior Living Week is brought to you by:\nHousing Bureau for Seniors\nUniversity of Michigan Health\nDepartment of Community Health Services
URL:https://ehmss.org/event/senior-living-week-2025-expo/
LOCATION:Washtenaw Community College\, 4800 E Huron River Dr\, Ann Arbor\, MI\, 48105\, United States
CATEGORIES:Brecon Village Community Event
ATTACH;FMTTYPE=image/jpeg:https://ehmss.org/wp-content/uploads/2024/08/hbs-senior-living-wk-image.jpg
ORGANIZER;CN="University of Michigan Health":MAILTO:HousingBureauSeniors@umich.edu
END:VEVENT
BEGIN:VEVENT
DTSTART;TZID=America/Detroit:20250918T183000
DTEND;TZID=America/Detroit:20250918T193000
DTSTAMP:20260422T023712
CREATED:20240805T133057Z
LAST-MODIFIED:20250908T191113Z
UID:4533-1758220200-1758223800@ehmss.org
SUMMARY:Brecon Village September Sounds presents The Depot Town Big Band
DESCRIPTION:You’re invited! The Depot Town Big Band plays live at Brecon Village. Join us outside for this fun event. \nFree concert and refreshments! \n\n\n\n\n\n\nPresented by Evangelical Homes of Michigan Foundation and EHM Senior Solutions\, with Gratitude to the Oscar Haab Charitable Remainder Trust\, OneCare\, TwinMed and Bank of Ann Arbor.
URL:https://ehmss.org/event/brecon-village-september-sounds-depot-town-big-band/
LOCATION:Brecon Village\, 200 Brecon Drive\, Saline\, MI\, 48176\, United States
CATEGORIES:Brecon Village Community Event
ATTACH;FMTTYPE=image/jpeg:https://ehmss.org/wp-content/uploads/2021/11/Depot-Townband.jpg
END:VEVENT
BEGIN:VEVENT
DTSTART;TZID=America/Detroit:20250911T183000
DTEND;TZID=America/Detroit:20250911T193000
DTSTAMP:20260422T023712
CREATED:20240805T133810Z
LAST-MODIFIED:20250908T190821Z
UID:4536-1757615400-1757619000@ehmss.org
SUMMARY:Brecon Village September Sounds presents Jean Wilson and Friends
DESCRIPTION:You’re invited! Free concert and refreshments! \nJean Wilson and Friends play live at Brecon Village. A  wide variety of jazz favorites sure to please everyone will be on tap. \nJoin us outside for this fun event. \nPresented by Evangelical Homes of Michigan Foundation and EHM Senior Solutions\, with Gratitude to the Oscar Haab Charitable Remainder Trust\, OneCare\, TwinMed\, and Bank of Ann Arbor.
URL:https://ehmss.org/event/brecon-village-september-sounds-presents-the-big-band-theory/
LOCATION:Brecon Village\, 200 Brecon Drive\, Saline\, MI\, 48176\, United States
CATEGORIES:Community Event
ATTACH;FMTTYPE=image/jpeg:https://ehmss.org/wp-content/uploads/2024/08/Jean-wilson.jpg
END:VEVENT
BEGIN:VEVENT
DTSTART;TZID=America/Detroit:20250826T180000
DTEND;TZID=America/Detroit:20250826T193000
DTSTAMP:20260422T023712
CREATED:20220404T171258Z
LAST-MODIFIED:20250822T182350Z
UID:1747-1756231200-1756236600@ehmss.org
SUMMARY:Wine & Cheese with Free LifeChoices Seminar
DESCRIPTION:Join us at Brecon Village and sip a glass of wine as you learn about our program. \nLifeChoices® is a membership program for adults 50+\nwho want to stay independent and in control of their future. \n\nEnjoy wellness perks right away –home maintenance\, housekeeping\, personal training\, massage therapy\, and more\nStay in your home with an aging in place plan that fits your life\nWhen care is needed\, our team handles everything –professionally\, compassionately and without surprise costs.\n\nYour Home. Your Life. Your Choice. \nRSVP below or call 734-679-0533 \nBrought to you by EHM Senior Solutions
URL:https://ehmss.org/event/lifechoices-wine-and-cheese/
LOCATION:The Memory Support Center at Brecon Village\, 101 Brecon Dr\, Saline\, 48176\, United States
CATEGORIES:Community Event,LIfeChoices Wine & Cheese
ATTACH;FMTTYPE=image/jpeg:https://ehmss.org/wp-content/uploads/2022/04/active-adult-LC-corner.jpg
ORGANIZER;CN="EHM Senior Solutions":MAILTO:marketing@ehmss.org
END:VEVENT
BEGIN:VEVENT
DTSTART;TZID=America/Detroit:20250826T110000
DTEND;TZID=America/Detroit:20250826T123000
DTSTAMP:20260422T023712
CREATED:20240411T161625Z
LAST-MODIFIED:20250822T182403Z
UID:4276-1756206000-1756211400@ehmss.org
SUMMARY:The Caregiving Journey - A Spouse's Perspective / The Memory Support Center at Brecon Village
DESCRIPTION:The Caregiving Journey – A Spouse’s Perspective\nSpeaker: Jim Mangi from Dementia Friendly Services \n\nLight lunch and refreshments\nA heartfelt\, informative talk from Jim Mangi with Q&A discussion\nFree take-home resources\n\nWe’re proud to partner with Jim Mangi and Dementia Friendly Services to bring you this event and support our community with meaningful resources and education. You’ll also get a first look at our upcoming fall education series\, with sessions focused on caregiver tips\, how to talk to a loved one with memory loss and knowing when support might be needed.\nWhether you’re just getting started or looking for extra help\, this is a great opportunity to learn more and meet the team at EHM Senior Solutions at The Memory Support Center\, Brecon Village. \nRSVP below. \nCall 734-295-9219 for more information\nor email: burgesss@ehmss.org
URL:https://ehmss.org/event/brecon-village-open-house/
LOCATION:The Memory Support Center at Brecon Village\, 101 Brecon Dr\, Saline\, 48176\, United States
CATEGORIES:Brecon Village Community Event,Community Event
ATTACH;FMTTYPE=image/jpeg:https://ehmss.org/wp-content/uploads/2024/04/man-w-caring-wife-sm.jpg
END:VEVENT
BEGIN:VEVENT
DTSTART;TZID=America/Detroit:20250517T100000
DTEND;TZID=America/Detroit:20250517T150000
DTSTAMP:20260422T023712
CREATED:20250423T131131Z
LAST-MODIFIED:20250423T131327Z
UID:4919-1747476000-1747494000@ehmss.org
SUMMARY:Dementia Friendly Saline's Best Life Spring Fair
DESCRIPTION:EHM Senior Solutions is a proud sponsor of the Dementia Friendly Saline Best Life Spring Fair!\nVisit our table at the Best Life Spring Fair on May 17th! The event includes live music\, unique craft vendors\, and informative presentations designed for caregivers\, individuals living with dementia\, and their supportive loved ones.
URL:https://ehmss.org/event/dementia-friendly-salines-best-life-spring-fair/
LOCATION:Liberty School Saline Michigan\, 7265 Ann Arbor Saline Rd\, Saline\, MI\, 48176\, United States
CATEGORIES:Community Event
ATTACH;FMTTYPE=image/jpeg:https://ehmss.org/wp-content/uploads/2025/04/dfs-small-graphic.jpg
END:VEVENT
BEGIN:VEVENT
DTSTART;TZID=America/Detroit:20250319T113000
DTEND;TZID=America/Detroit:20250319T130000
DTSTAMP:20260422T023712
CREATED:20231003T144448Z
LAST-MODIFIED:20260106T182754Z
UID:3899-1742383800-1742389200@ehmss.org
SUMMARY:Dine & Discover with LifeChoices®
DESCRIPTION: You are invited! \n  \n  \nRegister now with our RSVP or call:  734-679-0533
URL:https://ehmss.org/event/lunchlearn-with-lifechoices/
LOCATION:Travis Pointe Country Club\, 2829 Travis Pointe Rd.\, Ann Arbor\, MI\, 48108\, United States
CATEGORIES:Community Event,LifeChoices Dine & Discover
ORGANIZER;CN="LifeChoices and EHM Senior Solutions":MAILTO:craftj@ehmss.org
END:VEVENT
BEGIN:VEVENT
DTSTART;TZID=America/Detroit:20250207T110000
DTEND;TZID=America/Detroit:20250207T123000
DTSTAMP:20260422T023712
CREATED:20241002T163111Z
LAST-MODIFIED:20250130T203317Z
UID:4663-1738926000-1738931400@ehmss.org
SUMMARY:Saline Area Senior Center's "Souper Bowl"
DESCRIPTION:The Saline Area Senior Center “Souper Bowl” Competition is here!  LifeChoices\, Brecon Village and EHM Senior Solutions are competing- so come see us!\n\n\nYOU will select the People’s Choice winners as you will taste all the delicious soups and vote for your favorite. $5 entry fee at the door or register online / at the front desk. This event is also open to the public. Upon entry you will receive 10 tickets to vote with. You can spread them out equally amongst competitors or put all ten in your very favorite. You will also receive a sheet with names of soups in their categories and directions on how to select and vote. We will add up winners at 12:30pm. This event is sponsored by Ohioans Home Healthcare
URL:https://ehmss.org/event/ehm-senior-solutions-competes-in-souper-bowl/
LOCATION:Saline Area Senior Center\, 7190 N. Maple Rd.\, Saline\, MI\, 48176\, United States
CATEGORIES:Community Event
ATTACH;FMTTYPE=image/jpeg:https://ehmss.org/wp-content/uploads/2024/10/475705173_624924623423860_2419865853079926376_n.jpg
ORGANIZER;CN="EHM Senior Solutions":MAILTO:marketing@ehmss.org
END:VEVENT
BEGIN:VEVENT
DTSTART;TZID=America/Detroit:20240919T080000
DTEND;TZID=America/Detroit:20240919T170000
DTSTAMP:20260422T023712
CREATED:20240805T134324Z
LAST-MODIFIED:20240805T134324Z
UID:4541-1726732800-1726765200@ehmss.org
SUMMARY:Brecon Village September Sounds presents Gemini
DESCRIPTION:You’re invited! Gemini plays live at Brecon Village. Join us outside for this fun event. \nFree concert and refreshments! \n\n\n\n\n\n\nPresented by Evangelical Homes of Michigan Foundation and EHM Senior Solutions\, with Gratitude to the Oscar Haab Charitable Remainder Trust.
URL:https://ehmss.org/event/brecon-village-september-sounds-presents-gemini/
LOCATION:The Memory Support Center at Brecon Village\, 101 Brecon Dr\, Saline\, 48176\, United States
CATEGORIES:Brecon Village Community Event
ATTACH;FMTTYPE=image/jpeg:https://ehmss.org/wp-content/uploads/2023/08/sept-sounds-gemini2023.jpg
END:VEVENT
BEGIN:VEVENT
DTSTART;TZID=America/Detroit:20231102T120000
DTEND;TZID=America/Detroit:20231102T130000
DTSTAMP:20260422T023712
CREATED:20230823T193441Z
LAST-MODIFIED:20231019T200751Z
UID:3750-1698926400-1698930000@ehmss.org
SUMMARY:Flying Solo -  Mapping Your Course for Solo Aging
DESCRIPTION:Join us for a webinar!\nDISCOVER how to lead your own aging experience including current trends and mitigating risks. \nEXPLORE community resources and living options to enhance your future. \nDISCUSS how to use your 60s and 70s to plan your 80s and 90s. \nA Zoom link will be sent to you upon registration. \nYour Home. Your Life. Your Choice.\nLifeChoices® offers you peace of mind and a plan for your long term care needs while providing financial protection so you can continue living your life on your own terms!
URL:https://ehmss.org/event/navigating-tomorrow-fearless-approaches-to-future-care-planning/
LOCATION:Virtual Online Webinar
CATEGORIES:LifeChoices Virtual Session
ORGANIZER;CN="Nicole Boyer":MAILTO:boyern@ehmss.org
END:VEVENT
BEGIN:VEVENT
DTSTART;TZID=America/Detroit:20230710T084500
DTEND;TZID=America/Detroit:20230710T084500
DTSTAMP:20260422T023712
CREATED:20230629T153432Z
LAST-MODIFIED:20230629T183937Z
UID:3648-1688978700-1688978700@ehmss.org
SUMMARY:Medicare 101\, Evangelical Homes of Michigan 2023 Speaker Series
DESCRIPTION:Area Agency on Aging 1-B speaker Melissa Devine helps people understand Medicare plan choices\, steps to take along the way\, and deadlines for enrolling in Medicare for the first time.\nFree Seminar\nOpen to the Public.\nLight refreshments will be served.\n\nEHM Senior Solutions – Entrance A\nProfessional Office Building\n400 West Russell Street\nSaline\, MI 48176 \nFor more information\, contact Haley Buckmaster\n734-429-1626 or buckmasterh@ehmfoundation.org
URL:https://ehmss.org/event/medicare-101/
LOCATION:EHM Senior Solutions Professional Office Building\, 400 West Russell St.\, Entrance A\, Saline\, MI\, 48176\, United States
CATEGORIES:Community Event
END:VEVENT
BEGIN:VEVENT
DTSTART;TZID=America/Detroit:20221011T173000
DTEND;TZID=America/Detroit:20221011T190000
DTSTAMP:20260422T023712
CREATED:20220819T145608Z
LAST-MODIFIED:20221005T133048Z
UID:2600-1665509400-1665514800@ehmss.org
SUMMARY:Rightsize Your Life Series #3: Life at Brecon Village - Resident Panel Discussion
DESCRIPTION:Hear from our residents about their experience moving to a senior living community and what life is like at Brecon Village. Meet our Executive Director and enjoy hors d’oeuvres prepared by our Chef. \nPlease RSVP
URL:https://ehmss.org/event/resident-panel-discussion/
LOCATION:The Memory Support Center at Brecon Village\, 101 Brecon Dr\, Saline\, 48176\, United States
ATTACH;FMTTYPE=image/jpeg:https://ehmss.org/wp-content/uploads/2022/08/Brecon-Sign-scaled.jpg
ORGANIZER;CN="Nicole Boyer":MAILTO:boyern@ehmss.org
END:VEVENT
END:VCALENDAR