BEGIN:VCALENDAR
VERSION:2.0
PRODID:-//EHM Senior Solutions - ECPv6.15.17.1//NONSGML v1.0//EN
CALSCALE:GREGORIAN
METHOD:PUBLISH
X-WR-CALNAME:EHM Senior Solutions
X-ORIGINAL-URL:https://ehmss.org
X-WR-CALDESC:Events for EHM Senior Solutions
REFRESH-INTERVAL;VALUE=DURATION:PT1H
X-Robots-Tag:noindex
X-PUBLISHED-TTL:PT1H
BEGIN:VTIMEZONE
TZID:America/Detroit
BEGIN:DAYLIGHT
TZOFFSETFROM:-0500
TZOFFSETTO:-0400
TZNAME:EDT
DTSTART:20250309T070000
END:DAYLIGHT
BEGIN:STANDARD
TZOFFSETFROM:-0400
TZOFFSETTO:-0500
TZNAME:EST
DTSTART:20251102T060000
END:STANDARD
BEGIN:DAYLIGHT
TZOFFSETFROM:-0500
TZOFFSETTO:-0400
TZNAME:EDT
DTSTART:20260308T070000
END:DAYLIGHT
BEGIN:STANDARD
TZOFFSETFROM:-0400
TZOFFSETTO:-0500
TZNAME:EST
DTSTART:20261101T060000
END:STANDARD
BEGIN:DAYLIGHT
TZOFFSETFROM:-0500
TZOFFSETTO:-0400
TZNAME:EDT
DTSTART:20270314T070000
END:DAYLIGHT
BEGIN:STANDARD
TZOFFSETFROM:-0400
TZOFFSETTO:-0500
TZNAME:EST
DTSTART:20271107T060000
END:STANDARD
END:VTIMEZONE
BEGIN:VEVENT
DTSTART;TZID=America/Detroit:20260519T113000
DTEND;TZID=America/Detroit:20260519T113000
DTSTAMP:20260421T220732
CREATED:20260408T204316Z
LAST-MODIFIED:20260410T153744Z
UID:5603-1779190200-1779190200@ehmss.org
SUMMARY:Financial Professionals LifeChoices Dine and Discover
DESCRIPTION:Join us !\nFREE Lunch and Learn for Financial Advisors and Professionals\nWe’ll treat you to lunch at Weber’s as we share details about our program. \nLifeChoices® is a membership program for adults 50+ who want to stay independent and in control of their future. \n\nAre your clients concerned about protecting their assets as they age?\nDo you have clients who are interested in long-term care insurance\, but the cost is too high?\nAre your clients asking\, “how much will it cost if I have to move into a long-term care community?”\n\nLifeChoices is a licensed Continuing Care at Home program\, serving citizens of Washtenaw County. Imagine the security of a long-term care insurance policy at the fraction of the price. We invite you to our first Lunch and Learn for another tool you can provide to your clients as they age. Register today!   \nTheir Home. Their Life. Their Choice. \nRSVP below or call 734-679-0533 \nBrought to you by EHM Senior Solutions
URL:https://ehmss.org/event/financial-professionals-lifechoices-dine-and-discover/
LOCATION:Weber’s Inn\, 3050 Jackson Ave.\, Ann Arbor\, MI\, United States
CATEGORIES:LifeChoices Dine & Discover
ATTACH;FMTTYPE=image/jpeg:https://ehmss.org/wp-content/uploads/2026/04/iStock-1183998991-e1775669718310.jpg
ORGANIZER;CN="LifeChoices and EHM Senior Solutions":MAILTO:craftj@ehmss.org
END:VEVENT
END:VCALENDAR